BEGIN:VCALENDAR
VERSION:2.0
PRODID:-//kh-project.ch - ECPv6.15.17.1//NONSGML v1.0//EN
CALSCALE:GREGORIAN
METHOD:PUBLISH
X-WR-CALNAME:kh-project.ch
X-ORIGINAL-URL:https://kh-project.ch
X-WR-CALDESC:Events for kh-project.ch
REFRESH-INTERVAL;VALUE=DURATION:PT1H
X-Robots-Tag:noindex
X-PUBLISHED-TTL:PT1H
BEGIN:VTIMEZONE
TZID:UTC
BEGIN:STANDARD
TZOFFSETFROM:+0000
TZOFFSETTO:+0000
TZNAME:UTC
DTSTART:20250101T000000
END:STANDARD
END:VTIMEZONE
BEGIN:VEVENT
DTSTART;TZID=UTC:20260204T180000
DTEND;TZID=UTC:20260204T223000
DTSTAMP:20260420T071929
CREATED:20250225T133845Z
LAST-MODIFIED:20250225T134355Z
UID:2880-1770228000-1770244200@kh-project.ch
SUMMARY:Restaurant Volkshaus - Bern
DESCRIPTION:
URL:https://kh-project.ch/event/volkshaus/
LOCATION:Volkshaus\, Zeughausgasse 9\, Bern\, 3011
ATTACH;FMTTYPE=image/png:https://kh-project.ch/wp-content/uploads/2025/02/Bildschirmfoto-2025-02-25-um-13.22.20.png
END:VEVENT
END:VCALENDAR