BEGIN:VCALENDAR
VERSION:2.0
PRODID:-//kh-project.ch - ECPv6.15.17.1//NONSGML v1.0//EN
CALSCALE:GREGORIAN
METHOD:PUBLISH
X-WR-CALNAME:kh-project.ch
X-ORIGINAL-URL:https://kh-project.ch
X-WR-CALDESC:Events for kh-project.ch
REFRESH-INTERVAL;VALUE=DURATION:PT1H
X-Robots-Tag:noindex
X-PUBLISHED-TTL:PT1H
BEGIN:VTIMEZONE
TZID:UTC
BEGIN:STANDARD
TZOFFSETFROM:+0000
TZOFFSETTO:+0000
TZNAME:UTC
DTSTART:20240101T000000
END:STANDARD
END:VTIMEZONE
BEGIN:VEVENT
DTSTART;TZID=UTC:20250823T170000
DTEND;TZID=UTC:20250823T220000
DTSTAMP:20260422T153756
CREATED:20250206T143129Z
LAST-MODIFIED:20250402T101022Z
UID:2874-1755968400-1755986400@kh-project.ch
SUMMARY:Orangerie Elfenau - Bern
DESCRIPTION:
URL:https://kh-project.ch/event/orangerie-elfenau-bern/
LOCATION:Orangerie\, Luternauweg 15\, Bern\, 3006
ATTACH;FMTTYPE=image/png:https://kh-project.ch/wp-content/uploads/2025/02/EKS25-Teaser-KH-Project.png
END:VEVENT
END:VCALENDAR