BEGIN:VCALENDAR
VERSION:2.0
PRODID:-//kh-project.ch - ECPv6.15.17.1//NONSGML v1.0//EN
CALSCALE:GREGORIAN
METHOD:PUBLISH
X-ORIGINAL-URL:https://kh-project.ch
X-WR-CALDESC:Events for kh-project.ch
REFRESH-INTERVAL;VALUE=DURATION:PT1H
X-Robots-Tag:noindex
X-PUBLISHED-TTL:PT1H
BEGIN:VTIMEZONE
TZID:UTC
BEGIN:STANDARD
TZOFFSETFROM:+0000
TZOFFSETTO:+0000
TZNAME:UTC
DTSTART:20240101T000000
END:STANDARD
END:VTIMEZONE
BEGIN:VEVENT
DTSTART;TZID=UTC:20250228T200000
DTEND;TZID=UTC:20250228T230000
DTSTAMP:20260422T234556
CREATED:20240506T084924Z
LAST-MODIFIED:20250110T100159Z
UID:2815-1740772800-1740783600@kh-project.ch
SUMMARY:RIDE-IN - Wabern
DESCRIPTION:
URL:https://kh-project.ch/event/ridein/
LOCATION:Ride-in\, Seftigenstrasse 400\, Wabern\, 3084\, Switzerland
ATTACH;FMTTYPE=image/jpeg:https://kh-project.ch/wp-content/uploads/2024/05/neu-RI_Flyer_Fruhling-25-Feb.jpg
END:VEVENT
END:VCALENDAR