BEGIN:VCALENDAR
VERSION:2.0
PRODID:-//kh-project.ch - ECPv6.15.17.1//NONSGML v1.0//EN
CALSCALE:GREGORIAN
METHOD:PUBLISH
X-ORIGINAL-URL:https://kh-project.ch
X-WR-CALDESC:Events for kh-project.ch
REFRESH-INTERVAL;VALUE=DURATION:PT1H
X-Robots-Tag:noindex
X-PUBLISHED-TTL:PT1H
BEGIN:VTIMEZONE
TZID:UTC
BEGIN:STANDARD
TZOFFSETFROM:+0000
TZOFFSETTO:+0000
TZNAME:UTC
DTSTART:20220101T000000
END:STANDARD
END:VTIMEZONE
BEGIN:VEVENT
DTSTART;TZID=UTC:20260204T180000
DTEND;TZID=UTC:20260204T223000
DTSTAMP:20260417T000231
CREATED:20250225T133845Z
LAST-MODIFIED:20250225T134355Z
UID:2880-1770228000-1770244200@kh-project.ch
SUMMARY:Restaurant Volkshaus - Bern
DESCRIPTION:
URL:https://kh-project.ch/event/volkshaus/
LOCATION:Volkshaus\, Zeughausgasse 9\, Bern\, 3011
ATTACH;FMTTYPE=image/png:https://kh-project.ch/wp-content/uploads/2025/02/Bildschirmfoto-2025-02-25-um-13.22.20.png
END:VEVENT
BEGIN:VEVENT
DTSTART;TZID=UTC:20251024T190000
DTEND;TZID=UTC:20251024T223000
DTSTAMP:20260417T000231
CREATED:20241108T115340Z
LAST-MODIFIED:20241108T115340Z
UID:2855-1761332400-1761345000@kh-project.ch
SUMMARY:Zunft zur füfte Jahreszyt
DESCRIPTION:
URL:https://kh-project.ch/event/zunft-zur-fufte-jahreszyt-3/
LOCATION:Zunft zur füfte Jahreszyt\, Bern\, Gerechtigkeitsgasse 61\, Bern\, 3011\, Switzerland
ATTACH;FMTTYPE=image/jpeg:https://kh-project.ch/wp-content/uploads/2023/08/GRUPPE-GROSS-SMARTOBJECTS-scaled.jpg
END:VEVENT
BEGIN:VEVENT
DTSTART;TZID=UTC:20250918T193000
DTEND;TZID=UTC:20250918T223000
DTSTAMP:20260417T000231
CREATED:20250817T072926Z
LAST-MODIFIED:20250817T072926Z
UID:2917-1758223800-1758234600@kh-project.ch
SUMMARY:Bierhübeli / Gustav Bern
DESCRIPTION:
URL:https://kh-project.ch/event/bierhubeli-gustav-bern/
LOCATION:Bierhübeli\, Neubrückstrasse 43\, Bern\, 3012\, Switzerland
ATTACH;FMTTYPE=image/jpeg:https://kh-project.ch/wp-content/uploads/2025/08/KH-Project_Story.jpg
END:VEVENT
BEGIN:VEVENT
DTSTART;TZID=UTC:20250823T170000
DTEND;TZID=UTC:20250823T220000
DTSTAMP:20260417T000231
CREATED:20250206T143129Z
LAST-MODIFIED:20250402T101022Z
UID:2874-1755968400-1755986400@kh-project.ch
SUMMARY:Orangerie Elfenau - Bern
DESCRIPTION:
URL:https://kh-project.ch/event/orangerie-elfenau-bern/
LOCATION:Orangerie\, Luternauweg 15\, Bern\, 3006
ATTACH;FMTTYPE=image/png:https://kh-project.ch/wp-content/uploads/2025/02/EKS25-Teaser-KH-Project.png
END:VEVENT
BEGIN:VEVENT
DTSTART;TZID=UTC:20250404T200000
DTEND;TZID=UTC:20250404T230000
DTSTAMP:20260417T000231
CREATED:20241101T090854Z
LAST-MODIFIED:20250220T112729Z
UID:2850-1743796800-1743807600@kh-project.ch
SUMMARY:Ändstation Bar - Bern
DESCRIPTION:
URL:https://kh-project.ch/event/andstation-bar-bern/
LOCATION:Ändstation Bar\, Seftigenstrasse 51\, Bern\, 3007\, Switzerland
ATTACH;FMTTYPE=image/jpeg:https://kh-project.ch/wp-content/uploads/2024/11/kh-aendstation1.jpg
END:VEVENT
BEGIN:VEVENT
DTSTART;TZID=UTC:20250228T200000
DTEND;TZID=UTC:20250228T230000
DTSTAMP:20260417T000231
CREATED:20240506T084924Z
LAST-MODIFIED:20250110T100159Z
UID:2815-1740772800-1740783600@kh-project.ch
SUMMARY:RIDE-IN - Wabern
DESCRIPTION:
URL:https://kh-project.ch/event/ridein/
LOCATION:Ride-in\, Seftigenstrasse 400\, Wabern\, 3084\, Switzerland
ATTACH;FMTTYPE=image/jpeg:https://kh-project.ch/wp-content/uploads/2024/05/neu-RI_Flyer_Fruhling-25-Feb.jpg
END:VEVENT
BEGIN:VEVENT
DTSTART;TZID=UTC:20241231T200000
DTEND;TZID=UTC:20241231T233000
DTSTAMP:20260417T000231
CREATED:20240415T101522Z
LAST-MODIFIED:20240415T101639Z
UID:2803-1735675200-1735687800@kh-project.ch
SUMMARY:Ristorante Lorenzini Bern
DESCRIPTION:
URL:https://kh-project.ch/event/lorenzini/
LOCATION:Ristorante Lorenzini Bern\, Hotelgasse 10\, Bern\, 3010\, Switzerland
ATTACH;FMTTYPE=image/jpeg:https://kh-project.ch/wp-content/uploads/2023/08/IMG_00030161-1-1-scaled.jpg
END:VEVENT
BEGIN:VEVENT
DTSTART;TZID=UTC:20241102T200000
DTEND;TZID=UTC:20241102T200000
DTSTAMP:20260417T000231
CREATED:20240315T181122Z
LAST-MODIFIED:20240315T181122Z
UID:2790-1730577600-1730577600@kh-project.ch
SUMMARY:Bäuper Musignacht\, Restaurant Kiora
DESCRIPTION:
URL:https://kh-project.ch/event/bauper-musignacht-restaurant-kiora/
LOCATION:Restaurant Kiora\, Schlössliweg 5\, Belp\, 3123\, Switzerland
ATTACH;FMTTYPE=image/jpeg:https://kh-project.ch/wp-content/uploads/2023/08/IMG_00030101-1-scaled.jpg
END:VEVENT
BEGIN:VEVENT
DTSTART;TZID=UTC:20241019T200000
DTEND;TZID=UTC:20241019T220000
DTSTAMP:20260417T000231
CREATED:20231214T092933Z
LAST-MODIFIED:20231214T093412Z
UID:2757-1729368000-1729375200@kh-project.ch
SUMMARY:Egelseetreff\, Bern
DESCRIPTION:
URL:https://kh-project.ch/event/egelsee/
LOCATION:Egelseetreff Bern\, Egelmösli\, Bern\, 3006\, Switzerland
ATTACH;FMTTYPE=image/jpeg:https://kh-project.ch/wp-content/uploads/2023/08/GRUPPE-GROSS-SMARTOBJECTS-scaled.jpg
END:VEVENT
BEGIN:VEVENT
DTSTART;TZID=UTC:20240615T160000
DTEND;TZID=UTC:20240615T220000
DTSTAMP:20260417T000231
CREATED:20230822T074156Z
LAST-MODIFIED:20240613T153018Z
UID:2732-1718467200-1718488800@kh-project.ch
SUMMARY:Jacks Summerparty - Abgesagt
DESCRIPTION:
URL:https://kh-project.ch/event/jacks-summerparty-oberwangen-2/
LOCATION:Jacks Summerparty\, Feldackerstrasse 1\, Oberwangen\, 3173\, Switzerland
ATTACH;FMTTYPE=image/jpeg:https://kh-project.ch/wp-content/uploads/2023/08/Summer-20241-scaled.jpg
END:VEVENT
BEGIN:VEVENT
DTSTART;TZID=UTC:20240506T170000
DTEND;TZID=UTC:20240506T230000
DTSTAMP:20260417T000231
CREATED:20240222T073546Z
LAST-MODIFIED:20240223T142912Z
UID:2778-1715014800-1715036400@kh-project.ch
SUMMARY:BEA – Feldschlösschen Zelt
DESCRIPTION:
URL:https://kh-project.ch/event/bea-feldschlosschen-zelt/
LOCATION:BERNEXPO AG\, Mingerstrasse 6\, Bern\, 3000\, Switzerland
ATTACH;FMTTYPE=image/jpeg:https://kh-project.ch/wp-content/uploads/2023/08/IMG_00030215-11-1-scaled.jpg
END:VEVENT
BEGIN:VEVENT
DTSTART;TZID=UTC:20240417T200000
DTEND;TZID=UTC:20240417T200000
DTSTAMP:20260417T000231
CREATED:20230821T085304Z
LAST-MODIFIED:20240229T073455Z
UID:2703-1713384000-1713384000@kh-project.ch
SUMMARY:Zunft zur füfte Jahreszyt
DESCRIPTION:
URL:https://kh-project.ch/event/zunft-zur-fufte-jahreszyt-2/
LOCATION:Zunft zur füfte Jahreszyt\, Bern\, Gerechtigkeitsgasse 61\, Bern\, 3011\, Switzerland
ATTACH;FMTTYPE=image/png:https://kh-project.ch/wp-content/uploads/2023/08/Bildschirmfoto-2024-02-29-um-08.33.22.png
END:VEVENT
BEGIN:VEVENT
DTSTART;TZID=UTC:20240211T190000
DTEND;TZID=UTC:20240211T220000
DTSTAMP:20260417T000231
CREATED:20231003T061003Z
LAST-MODIFIED:20231003T093034Z
UID:2735-1707678000-1707688800@kh-project.ch
SUMMARY:Eisbahn Bundesplatz Bern (Chalet)
DESCRIPTION:
URL:https://kh-project.ch/event/eisbahn-bundesplatz-bern-chalet/
LOCATION:Bundesplatz Bern\, Bundesplatz\, Bern\, 3000
ATTACH;FMTTYPE=image/jpeg:https://kh-project.ch/wp-content/uploads/2023/08/IMG_00030101-1-scaled.jpg
END:VEVENT
BEGIN:VEVENT
DTSTART;TZID=UTC:20240125T200000
DTEND;TZID=UTC:20240125T220000
DTSTAMP:20260417T000231
CREATED:20230509T125413Z
LAST-MODIFIED:20240114T153215Z
UID:2670-1706212800-1706220000@kh-project.ch
SUMMARY:Restaurant Landhaus\, Liebefeld
DESCRIPTION:
URL:https://kh-project.ch/event/restaurant-landhaus-liebefeld/
LOCATION:Restaurant Landhaus\, Schwarzenburgstrasse 134\, Liebefeld\, 3097
ATTACH;FMTTYPE=image/png:https://kh-project.ch/wp-content/uploads/2023/05/liebefeld-reduziert.png
END:VEVENT
BEGIN:VEVENT
DTSTART;TZID=UTC:20230916T200000
DTEND;TZID=UTC:20230916T220000
DTSTAMP:20260417T000231
CREATED:20230502T080537Z
LAST-MODIFIED:20230821T090122Z
UID:2667-1694894400-1694901600@kh-project.ch
SUMMARY:Bären Buchsi\, Münchenbuchsee
DESCRIPTION:
URL:https://kh-project.ch/event/baren-buchsi-munchenbuchsee/
LOCATION:Bären Buchsi\, Bernstrasse 3\, Münchenbuchsee\, 3053\, Switzerland
ATTACH;FMTTYPE=image/jpeg:https://kh-project.ch/wp-content/uploads/2023/05/kh-baren-scaled.jpg
END:VEVENT
BEGIN:VEVENT
DTSTART;TZID=UTC:20230616T200000
DTEND;TZID=UTC:20230616T200000
DTSTAMP:20260417T000231
CREATED:20230316T013342Z
LAST-MODIFIED:20230316T013342Z
UID:2627-1686945600-1686945600@kh-project.ch
SUMMARY:Restaurant Bären\, Langenthal - Privatanlass
DESCRIPTION:
URL:https://kh-project.ch/event/restaurant-baren-langenthal-privatanlass/
LOCATION:Restaurant Bären\, Langenthal\, St. Urbanstrasse 1\, 4900 Langenthal
ATTACH;FMTTYPE=image/jpeg:https://kh-project.ch/wp-content/uploads/2023/02/KHProject001K.jpg
END:VEVENT
BEGIN:VEVENT
DTSTART;TZID=UTC:20230610T200000
DTEND;TZID=UTC:20230610T233000
DTSTAMP:20260417T000231
CREATED:20230425T073531Z
LAST-MODIFIED:20230602T053625Z
UID:2664-1686427200-1686439800@kh-project.ch
SUMMARY:Sunset Rock\, Schwarzenburg - Privatanlass
DESCRIPTION:
URL:https://kh-project.ch/event/sunset-rock-schwarzenburg-privatanlass/
ATTACH;FMTTYPE=image/jpeg:https://kh-project.ch/wp-content/uploads/2023/02/KHProject001K.jpg
END:VEVENT
BEGIN:VEVENT
DTSTART;TZID=UTC:20230609T200000
DTEND;TZID=UTC:20230609T200000
DTSTAMP:20260417T000231
CREATED:20230315T053747Z
LAST-MODIFIED:20230316T013404Z
UID:2583-1686340800-1686340800@kh-project.ch
SUMMARY:Restaurant Bären\, Langenthal - Privatanlass
DESCRIPTION:
URL:https://kh-project.ch/event/restaurant-baren-langenthal/
LOCATION:Restaurant Bären\, Langenthal\, St. Urbanstrasse 1\, 4900 Langenthal
ATTACH;FMTTYPE=image/jpeg:https://kh-project.ch/wp-content/uploads/2023/02/KHProject001K.jpg
END:VEVENT
BEGIN:VEVENT
DTSTART;TZID=UTC:20230603T160000
DTEND;TZID=UTC:20230603T220000
DTSTAMP:20260417T000231
CREATED:20230425T073215Z
LAST-MODIFIED:20230602T053656Z
UID:2660-1685808000-1685829600@kh-project.ch
SUMMARY:Jacks Summerparty\, Oberwangen - Anlass findet statt!
DESCRIPTION:
URL:https://kh-project.ch/event/jacks-summerparty-oberwangen/
LOCATION:Jacks Summerparty\, Feldackerstrasse 1\, Oberwangen\, 3173\, Switzerland
ATTACH;FMTTYPE=image/png:https://kh-project.ch/wp-content/uploads/2023/04/Bildschirmfoto-2023-04-25-um-09.29.30.png
END:VEVENT
BEGIN:VEVENT
DTSTART;TZID=UTC:20230419T200000
DTEND;TZID=UTC:20230419T200000
DTSTAMP:20260417T000231
CREATED:20230315T060517Z
LAST-MODIFIED:20230316T012317Z
UID:2603-1681934400-1681934400@kh-project.ch
SUMMARY:Zunft zur füfte Jahreszyt
DESCRIPTION:
URL:https://kh-project.ch/event/zunft-zur-fufte-jahreszyt/
LOCATION:Zunft zur füfte Jahreszyt\, Bern\, Gerechtigkeitsgasse 61\, Bern\, 3011\, Switzerland
ATTACH;FMTTYPE=image/png:https://kh-project.ch/wp-content/uploads/2023/03/Bildschirm_foto-2023-03-08-um-15.56.34.png
END:VEVENT
END:VCALENDAR