BEGIN:VCALENDAR
VERSION:2.0
PRODID:-//kh-project.ch - ECPv6.15.17.1//NONSGML v1.0//EN
CALSCALE:GREGORIAN
METHOD:PUBLISH
X-WR-CALNAME:kh-project.ch
X-ORIGINAL-URL:https://kh-project.ch
X-WR-CALDESC:Events for kh-project.ch
REFRESH-INTERVAL;VALUE=DURATION:PT1H
X-Robots-Tag:noindex
X-PUBLISHED-TTL:PT1H
BEGIN:VTIMEZONE
TZID:UTC
BEGIN:STANDARD
TZOFFSETFROM:+0000
TZOFFSETTO:+0000
TZNAME:UTC
DTSTART:20250101T000000
END:STANDARD
END:VTIMEZONE
BEGIN:VEVENT
DTSTART;TZID=UTC:20260417T200000
DTEND;TZID=UTC:20260417T223000
DTSTAMP:20260414T035324
CREATED:20250610T084758Z
LAST-MODIFIED:20250822T122115Z
UID:2907-1776456000-1776465000@kh-project.ch
SUMMARY:Alti Moschti - Mühlethurnen
DESCRIPTION:
URL:https://kh-project.ch/event/moschti/
LOCATION:Alti Moschti\, Moosstrasse 1\, Mühlethurnen\, 3127\, Switzerland
ATTACH;FMTTYPE=image/jpeg:https://kh-project.ch/wp-content/uploads/2025/06/alti-moschti-web-scaled.jpg
END:VEVENT
BEGIN:VEVENT
DTSTART;TZID=UTC:20260529T203000
DTEND;TZID=UTC:20260529T223000
DTSTAMP:20260414T035324
CREATED:20250616T065052Z
LAST-MODIFIED:20250616T065130Z
UID:2911-1780086600-1780093800@kh-project.ch
SUMMARY:Mahogany Hall - Bern
DESCRIPTION:
URL:https://kh-project.ch/event/mahogany/
LOCATION:Mahogany\, Klösterlistutz 18\, Bern\, 3000\, Switzerland
ATTACH;FMTTYPE=image/jpeg:https://kh-project.ch/wp-content/uploads/2023/08/IMG_00030215-11-1-scaled.jpg
END:VEVENT
BEGIN:VEVENT
DTSTART;TZID=UTC:20260612T190000
DTEND;TZID=UTC:20260612T220000
DTSTAMP:20260414T035324
CREATED:20240415T101120Z
LAST-MODIFIED:20251215T100228Z
UID:2800-1781290800-1781301600@kh-project.ch
SUMMARY:Bären Buchsi\, Münchenbuchsee
DESCRIPTION:
URL:https://kh-project.ch/event/baren-buchsi-munchenbuchsee-2/
LOCATION:Bären Buchsi\, Bernstrasse 3\, Münchenbuchsee\, 3053\, Switzerland
ATTACH;FMTTYPE=image/jpeg:https://kh-project.ch/wp-content/uploads/2024/04/2016-LogoBaerenBuchsi-farbig1.jpg
END:VEVENT
BEGIN:VEVENT
DTSTART;TZID=UTC:20260627T200000
DTEND;TZID=UTC:20260627T230000
DTSTAMP:20260414T035324
CREATED:20241203T085104Z
LAST-MODIFIED:20250903T134751Z
UID:2860-1782590400-1782601200@kh-project.ch
SUMMARY:Hasim’s Zyt Bar - Bern
DESCRIPTION:
URL:https://kh-project.ch/event/hasim/
LOCATION:Hasim\, Rathausgasse 75\, Bern\, 3011\, Switzerland
ATTACH;FMTTYPE=image/jpeg:https://kh-project.ch/wp-content/uploads/2023/08/IMG_00030101-1-1-scaled.jpg
END:VEVENT
BEGIN:VEVENT
DTSTART;TZID=UTC:20261113T190000
DTEND;TZID=UTC:20261113T220000
DTSTAMP:20260414T035324
CREATED:20231027T121506Z
LAST-MODIFIED:20251124T105513Z
UID:2748-1794596400-1794607200@kh-project.ch
SUMMARY:Chlyne Hecht\, Bern
DESCRIPTION:
URL:https://kh-project.ch/event/chlyne-hecht-bern/
LOCATION:Chlyne Hecht\, Bern\, Seidenweg 5\, Bern\, 3012\, Switzerland
ATTACH;FMTTYPE=image/jpeg:https://kh-project.ch/wp-content/uploads/2023/08/IMG_00030101-1-scaled.jpg
END:VEVENT
END:VCALENDAR