BEGIN:VCALENDAR
VERSION:2.0
PRODID:-//kh-project.ch - ECPv6.15.17.1//NONSGML v1.0//EN
CALSCALE:GREGORIAN
METHOD:PUBLISH
X-WR-CALNAME:kh-project.ch
X-ORIGINAL-URL:https://kh-project.ch
X-WR-CALDESC:Events for kh-project.ch
REFRESH-INTERVAL;VALUE=DURATION:PT1H
X-Robots-Tag:noindex
X-PUBLISHED-TTL:PT1H
BEGIN:VTIMEZONE
TZID:UTC
BEGIN:STANDARD
TZOFFSETFROM:+0000
TZOFFSETTO:+0000
TZNAME:UTC
DTSTART:20250101T000000
END:STANDARD
END:VTIMEZONE
BEGIN:VEVENT
DTSTART;TZID=UTC:20260529T203000
DTEND;TZID=UTC:20260529T223000
DTSTAMP:20260420T073615
CREATED:20250616T065052Z
LAST-MODIFIED:20250616T065130Z
UID:2911-1780086600-1780093800@kh-project.ch
SUMMARY:Mahogany Hall - Bern
DESCRIPTION:
URL:https://kh-project.ch/event/mahogany/
LOCATION:Mahogany\, Klösterlistutz 18\, Bern\, 3000\, Switzerland
ATTACH;FMTTYPE=image/jpeg:https://kh-project.ch/wp-content/uploads/2023/08/IMG_00030215-11-1-scaled.jpg
END:VEVENT
END:VCALENDAR