BEGIN:VCALENDAR
VERSION:2.0
PRODID:-//kh-project.ch - ECPv6.15.17.1//NONSGML v1.0//EN
CALSCALE:GREGORIAN
METHOD:PUBLISH
X-ORIGINAL-URL:https://kh-project.ch
X-WR-CALDESC:Events for kh-project.ch
REFRESH-INTERVAL;VALUE=DURATION:PT1H
X-Robots-Tag:noindex
X-PUBLISHED-TTL:PT1H
BEGIN:VTIMEZONE
TZID:UTC
BEGIN:STANDARD
TZOFFSETFROM:+0000
TZOFFSETTO:+0000
TZNAME:UTC
DTSTART:20250101T000000
END:STANDARD
END:VTIMEZONE
BEGIN:VEVENT
DTSTART;TZID=UTC:20260417T200000
DTEND;TZID=UTC:20260417T223000
DTSTAMP:20260416T154452
CREATED:20250610T084758Z
LAST-MODIFIED:20250822T122115Z
UID:2907-1776456000-1776465000@kh-project.ch
SUMMARY:Alti Moschti - Mühlethurnen
DESCRIPTION:
URL:https://kh-project.ch/event/moschti/
LOCATION:Alti Moschti\, Moosstrasse 1\, Mühlethurnen\, 3127\, Switzerland
ATTACH;FMTTYPE=image/jpeg:https://kh-project.ch/wp-content/uploads/2025/06/alti-moschti-web-scaled.jpg
END:VEVENT
END:VCALENDAR